BEGIN:VCALENDAR
VERSION:2.0
PRODID:-//Visit Muhlenberg - ECPv6.15.20//NONSGML v1.0//EN
CALSCALE:GREGORIAN
METHOD:PUBLISH
X-WR-CALNAME:Visit Muhlenberg
X-ORIGINAL-URL:https://visitmuhlenberg.com
X-WR-CALDESC:Events for Visit Muhlenberg
REFRESH-INTERVAL;VALUE=DURATION:PT1H
X-Robots-Tag:noindex
X-PUBLISHED-TTL:PT1H
BEGIN:VTIMEZONE
TZID:UTC
BEGIN:STANDARD
TZOFFSETFROM:+0000
TZOFFSETTO:+0000
TZNAME:UTC
DTSTART:20220101T000000
END:STANDARD
END:VTIMEZONE
BEGIN:VEVENT
DTSTART;TZID=UTC:20231001T000000
DTEND;TZID=UTC:20231031T235959
DTSTAMP:20260426T005209
CREATED:20231019T045614Z
LAST-MODIFIED:20231019T050544Z
UID:700-1696118400-1698796799@visitmuhlenberg.com
SUMMARY:2023 'Bales in the Berg' Haybale Trail (Oct. 1st - 31st)
DESCRIPTION:Hay y’all! Are you ready to see some fun cre-HAY-tive fall displays across Muhlenberg?? \n\n\n\nBales in the Berg is officially open and y’all’s creativity is off the charts again! You will find 25+ unique and creative displays in every corner of the county! \n\n\n\nGoogle Map of Entries – CLICK HERE \n\n\n\nEntry Guide – CLICK HERE \n\n\n\nPrizes are up for grabs and the winners will be decided by YOU! Head on over to the Muhlenberg County Tourism Commission Facebook page and vote for your favorite entry in each category. On November 1st the top 3 winners in Business\, Residential and Non-profit will be awarded. \n\n\n\nCLICK HERE to visit our Facebook Page. \n\n\n\nGet out there and enjoy!  
URL:https://visitmuhlenberg.com/events/2023-bales-in-the-berg-haybale-trail/
LOCATION:Kentucky
ATTACH;FMTTYPE=image/jpeg:https://visitmuhlenberg.com/wp-content/uploads/2023/08/REV2-Bales-in-the-Berg-scaled.jpeg
ORGANIZER;CN="Muhlenberg County Tourism Commission":MAILTO:director@visitmuhlenberg.com
END:VEVENT
BEGIN:VEVENT
DTSTART;TZID=UTC:20231007T000000
DTEND;TZID=UTC:20231031T235959
DTSTAMP:20260426T005209
CREATED:20231019T050435Z
LAST-MODIFIED:20231019T050438Z
UID:707-1696636800-1698796799@visitmuhlenberg.com
SUMMARY:Pumpkin Hollow (Oct. 7th - 31st)
DESCRIPTION:A FREE spooky trail for all ages October 7th – October 31st. Located at Brizendine Brothers Nature Park\, open from dawn til dusk.
URL:https://visitmuhlenberg.com/events/pumpkin-hollow-oct-7th-31st/
LOCATION:Brizendine Brothers Nature Park\, 100 Pritchett Drive\, Greenville\, Kentucky\, 42345\, United States
ATTACH;FMTTYPE=image/png:https://visitmuhlenberg.com/wp-content/uploads/2023/10/Website-Photos-PH.png
ORGANIZER;CN="Greenville Tourism Commission":MAILTO:director@tourgreenville.com
END:VEVENT
BEGIN:VEVENT
DTSTART;TZID=UTC:20231019T000000
DTEND;TZID=UTC:20231031T235959
DTSTAMP:20260426T005209
CREATED:20231018T183417Z
LAST-MODIFIED:20231019T050023Z
UID:641-1697673600-1698796799@visitmuhlenberg.com
SUMMARY:Shadows of Spring Ridge (Oct. 19th - 31st)
DESCRIPTION:Paradise Park presents “Shadows of Spring Ridge\,” a Halloween decorated community for all ages. The park will be open from daylight til dusk every day beginning October 19th until October 31st. This event is FREE to everyone.
URL:https://visitmuhlenberg.com/events/shadows-of-spring-ridge-oct-19th-31st/
LOCATION:Muhlenberg’s Historic Paradise Park\, 604 Cleaton Rd\, Powderly\, Kentucky\, 42367\, United States
ATTACH;FMTTYPE=image/png:https://visitmuhlenberg.com/wp-content/uploads/2023/10/Website-Photos-SSR-Day.png
ORGANIZER;CN="Historic Paradise Park":MAILTO:Paradisepark@muhlenbergcountyky.org
END:VEVENT
BEGIN:VEVENT
DTSTART;TZID=UTC:20231019T180000
DTEND;TZID=UTC:20231019T200000
DTSTAMP:20260426T005209
CREATED:20230921T144237Z
LAST-MODIFIED:20231002T191542Z
UID:611-1697738400-1697745600@visitmuhlenberg.com
SUMMARY:The Adventures of Tortoise & Hare: Next Gen
DESCRIPTION:Lightwire Theater Presents: The Adventures of Tortoise and Hare: The Next Gen: Aesop’s classic fable of “The Tortoise and The Hare” is continued 10 years down the road as Lightwire Theater visits Martin Hall October 19th before their residency at the Seattle Children’s Theatre begins in November. The Next Gen features Tortoise Junior and Lil’ Hare in a whole new kind of race; one that leaves them in dangerous territory. Old Man Tortoise and Big Daddy Hare must come together despite their differences to find and save their children. Dazzling visuals\, poignant storytelling and creative music make this one your family won’t want to miss! \n\n\n\n  Tickets – Adults: $15\, Students: $10 CLICK HERE TO PURCHASE
URL:https://visitmuhlenberg.com/events/the-adventures-of-tortoise-hare-next-gen/
LOCATION:Felix E. Martin Jr. Hall\, 501 Robert Draper Way\, Greenville\, Kentucky\, 42345\, United States
ATTACH;FMTTYPE=image/png:https://visitmuhlenberg.com/wp-content/uploads/2023/10/Tortoise-and-Hair.png
ORGANIZER;CN="Felix E. Martin Jr. Hall":MAILTO:nfo@felixmartinhall.org
END:VEVENT
BEGIN:VEVENT
DTSTART;TZID=UTC:20231019T180000
DTEND;TZID=UTC:20231019T220000
DTSTAMP:20260426T005209
CREATED:20231018T184027Z
LAST-MODIFIED:20231018T184040Z
UID:645-1697738400-1697752800@visitmuhlenberg.com
SUMMARY:Shadows of Spring Ridge Kick-off - ADULTS ONLY
DESCRIPTION:Paradise Park Presents Shadows of Spring Ridge -ADULTS ONLY- $5 Entry Fee \n\n\n\nWhat to expect… \n\n\n\n Cocktails: Enjoy expertly crafted cocktails that will tantalize your taste buds\, made available by our friends at Sip & Spin and The Bard Distillery. (EACH PERSON WILL BE REQUIRED TO SHOW THEIR I.D. – NO EXCEPTIONS) \n\n\n\n Live Music: Put your dancing shoes on and get ready to groove to the rhythm. Our very own Scott Taylor will take the stage\, as well as Eric Harper with Southline. \n\n\n\n Food Trucks: Satisfy your cravings with delectable options from our lineup of food trucks. Torera Hibachi (formerly Steve with Shogun)\, Let’s Get Fried\, and What’s The Scoop. \n\n\n\n Date: October 19th \n\n\n\n Time: 6-9 PM \n\n\n\n Location: Paradise Park -604 Cleaton Rd.\, POWDERLY\, KY 42367 \n\n\n\nThis is the perfect opportunity to unwind\, catch up with friends\, or enjoy a date night out. Don’t miss the best adult-only gathering in town! See you there!
URL:https://visitmuhlenberg.com/events/shadows-of-spring-ridge-kick-off-adults-only/
LOCATION:Historic Paradise Park\, 604 Cleaton Rd\, Powderly\, Kentucky\, 42367
ATTACH;FMTTYPE=image/png:https://visitmuhlenberg.com/wp-content/uploads/2023/10/Website-Photos-SSR-adults-only.png
END:VEVENT
END:VCALENDAR