BEGIN:VCALENDAR
VERSION:2.0
PRODID:-//Visit Muhlenberg - ECPv6.15.20//NONSGML v1.0//EN
CALSCALE:GREGORIAN
METHOD:PUBLISH
X-ORIGINAL-URL:https://visitmuhlenberg.com
X-WR-CALDESC:Events for Visit Muhlenberg
REFRESH-INTERVAL;VALUE=DURATION:PT1H
X-Robots-Tag:noindex
X-PUBLISHED-TTL:PT1H
BEGIN:VTIMEZONE
TZID:America/Indiana/Tell_City
BEGIN:DAYLIGHT
TZOFFSETFROM:-0600
TZOFFSETTO:-0500
TZNAME:CDT
DTSTART:20220313T080000
END:DAYLIGHT
BEGIN:STANDARD
TZOFFSETFROM:-0500
TZOFFSETTO:-0600
TZNAME:CST
DTSTART:20221106T070000
END:STANDARD
BEGIN:DAYLIGHT
TZOFFSETFROM:-0600
TZOFFSETTO:-0500
TZNAME:CDT
DTSTART:20230312T080000
END:DAYLIGHT
BEGIN:STANDARD
TZOFFSETFROM:-0500
TZOFFSETTO:-0600
TZNAME:CST
DTSTART:20231105T070000
END:STANDARD
BEGIN:DAYLIGHT
TZOFFSETFROM:-0600
TZOFFSETTO:-0500
TZNAME:CDT
DTSTART:20240310T080000
END:DAYLIGHT
BEGIN:STANDARD
TZOFFSETFROM:-0500
TZOFFSETTO:-0600
TZNAME:CST
DTSTART:20241103T070000
END:STANDARD
END:VTIMEZONE
BEGIN:VEVENT
DTSTART;TZID=America/Indiana/Tell_City:20231111T070000
DTEND;TZID=America/Indiana/Tell_City:20231111T180000
DTSTAMP:20260425T225817
CREATED:20231104T003832Z
LAST-MODIFIED:20231104T003838Z
UID:780-1699686000-1699725600@visitmuhlenberg.com
SUMMARY:Western Kentucky Arenacross - Round 2
DESCRIPTION:General Information for each Round. \n\n\n\nVisit the Western Kentucky Arenacross Facebook Page for the most up-to-date information \n\n\n\nFriday Night Practice:Gates Open @ 3pmSign up begins anytime after 4pmPractice is from 5pm-9pmGuaranteed at least 3 rounds once Practice begins. $20 per Practice classGates Close @ 10pm \n\n\n\nSaturday Schedule:Gates Open @ 7am8am-10am Sign Ups10am Practice beginsRiders meeting directly to followHeat races begin 15 min after riders meetingLCQs & Intermission to followMain Event begins around 5pm \n\n\n\nPricing (cash only event):Gate fee covers Friday thru Saturday or Saturday onlyAdults (12 & up) $15Kids (6-11) $55 & Under FREEParking $2 per vehicle \n\n\n\nRace Fees:$30 first class$25 any additional classes$30 pro classes$10 strider bike class (no transponder required) \n\n\n\nTransponders: All racers except for strider bikes will need to have a transponder to race. Not required for Friday night practice. \n\n\n\nTransponder Fees (EScore):$115 to purchase$15 to rent (plus $100 deposit which you will get back when transponder is returned) \n\n\n\nCamping:$50 for weekend hook-upFREE for non-hook up camping \n\n\n\nINTERMISSION FUN! – Changes with each round. Check FB for info \n\n\n\nPoints Championship:Must race at least 8 of 10 rounds to qualify for series points. Banquet awards will be awarded to the Top 5 in each class! \n\n\n\nhttp://www.westernkyarenacross.com
URL:https://visitmuhlenberg.com/events/western-kentucky-arenacross-round-2/
LOCATION:Muhlenberg County Agriculture & Convention Center\, 3705 State Route 1380\, Powderly\, Kentucky\, 42367\, United States
ATTACH;FMTTYPE=image/png:https://visitmuhlenberg.com/wp-content/uploads/2023/11/Website-Arenacross.png
ORGANIZER;CN="Western Kentucky Arenacross":MAILTO:Felicianbartlett@gmail.com
END:VEVENT
END:VCALENDAR