BEGIN:VCALENDAR
VERSION:2.0
PRODID:-//Visit Muhlenberg - ECPv6.15.20//NONSGML v1.0//EN
CALSCALE:GREGORIAN
METHOD:PUBLISH
X-ORIGINAL-URL:https://visitmuhlenberg.com
X-WR-CALDESC:Events for Visit Muhlenberg
REFRESH-INTERVAL;VALUE=DURATION:PT1H
X-Robots-Tag:noindex
X-PUBLISHED-TTL:PT1H
BEGIN:VTIMEZONE
TZID:UTC
BEGIN:STANDARD
TZOFFSETFROM:+0000
TZOFFSETTO:+0000
TZNAME:UTC
DTSTART:20230101T000000
END:STANDARD
END:VTIMEZONE
BEGIN:VEVENT
DTSTART;TZID=UTC:20240309T180000
DTEND;TZID=UTC:20240309T210000
DTSTAMP:20260425T160018
CREATED:20240111T020409Z
LAST-MODIFIED:20240111T164616Z
UID:810-1710007200-1710018000@visitmuhlenberg.com
SUMMARY:Hoops & Homicide Murder Mystery Dinner
DESCRIPTION:🕵️‍♂️🔍 Are you looking for a night of mystery and fun!?! Join us for the Muhlenberg County Tourism Commission’s 2nd Annual Murder Mystery Event\, “Murder on the Court!” It’s going to be a night where intrigue\, suspense and a dash of b-ball collide! \n\n\n\n🏀 This year’s murder will take you inside the Central City Convention Center & Spray Park’s gymnasium for “Hoops and Homicide.” The perfect kickoff to March Madness here in the Bluegrass State! \n\n\n\n📅 The event will be on March 9th and begin with heavy hors d’oeuvres provided by Jean Jean’s Catering at 6 o’clock\, followed by the murder mystery at 7 o’clock. A special cash bar will be provided by Muhlenberg’s very own distillery\, The Bard Distillery! \n\n\n\n🎟 Get your tickets now to secure your spot in the lineup of Muhlenberg County’s most cunning detectives and basketball aficionados. \n\n\n\n🔗 Tickets can be purchased for $35 each or a table for 8 for $250. Purchase your tickets online at the following link: https://www.eventbrite.com/e/781174904167?aff=oddtdtcreator.
URL:https://visitmuhlenberg.com/events/hoops-homicide-murder-mystery-dinner/
LOCATION:Kentucky
ATTACH;FMTTYPE=image/png:https://visitmuhlenberg.com/wp-content/uploads/2024/01/Website-photo-Murder-on-the-Court-1.png
ORGANIZER;CN="Muhlenberg County Tourism Commission":MAILTO:director@visitmuhlenberg.com
END:VEVENT
END:VCALENDAR