BEGIN:VCALENDAR
VERSION:2.0
PRODID:-//Visit Muhlenberg - ECPv6.15.20//NONSGML v1.0//EN
CALSCALE:GREGORIAN
METHOD:PUBLISH
X-ORIGINAL-URL:https://visitmuhlenberg.com
X-WR-CALDESC:Events for Visit Muhlenberg
REFRESH-INTERVAL;VALUE=DURATION:PT1H
X-Robots-Tag:noindex
X-PUBLISHED-TTL:PT1H
BEGIN:VTIMEZONE
TZID:UTC
BEGIN:STANDARD
TZOFFSETFROM:+0000
TZOFFSETTO:+0000
TZNAME:UTC
DTSTART:20230101T000000
END:STANDARD
END:VTIMEZONE
BEGIN:VEVENT
DTSTART;TZID=UTC:20240317T090000
DTEND;TZID=UTC:20240317T180000
DTSTAMP:20260425T155933
CREATED:20231019T041159Z
LAST-MODIFIED:20231019T041202Z
UID:682-1710666000-1710698400@visitmuhlenberg.com
SUMMARY:Winter Series Barrel Show
DESCRIPTION:Join us for the Muhlenberg County Agriculture Center’s Winter Series Barrel Show (Buckle Series). \n\n\n\nWARMUPS: 9AM \n\n\n\nSHOW: 1PM \n\n\n\nSave this show bill and make plans to hang out with us. \n\n\n\nThis series is IBRA and NBHA sanctioned and will be our second annual buckle series show.
URL:https://visitmuhlenberg.com/events/winter-series-barrel-show-6/
LOCATION:Muhlenberg County Agriculture & Convention Center\, 3705 State Route 1380\, Powderly\, Kentucky\, 42367\, United States
ATTACH;FMTTYPE=image/png:https://visitmuhlenberg.com/wp-content/uploads/2023/10/Website-Photos-barrel-series-1.png
ORGANIZER;CN="Muhlenberg County Agriculture &amp%3B Convention Center":MAILTO:a.burns@muhlenbergcountyky.org
END:VEVENT
END:VCALENDAR