BEGIN:VCALENDAR
VERSION:2.0
PRODID:-//Visit Muhlenberg - ECPv6.15.20//NONSGML v1.0//EN
CALSCALE:GREGORIAN
METHOD:PUBLISH
X-WR-CALNAME:Visit Muhlenberg
X-ORIGINAL-URL:https://visitmuhlenberg.com
X-WR-CALDESC:Events for Visit Muhlenberg
REFRESH-INTERVAL;VALUE=DURATION:PT1H
X-Robots-Tag:noindex
X-PUBLISHED-TTL:PT1H
BEGIN:VTIMEZONE
TZID:UTC
BEGIN:STANDARD
TZOFFSETFROM:+0000
TZOFFSETTO:+0000
TZNAME:UTC
DTSTART:20230101T000000
END:STANDARD
END:VTIMEZONE
BEGIN:VEVENT
DTSTART;TZID=UTC:20240629T160000
DTEND;TZID=UTC:20240629T210000
DTSTAMP:20260425T110632
CREATED:20240620T012330Z
LAST-MODIFIED:20240620T122508Z
UID:861-1719676800-1719694800@visitmuhlenberg.com
SUMMARY:Up\, Up & Away Birthday Celebration
DESCRIPTION:We invite you to join the BIG TWIGS in celebrating Kentucky State Parks 100th birthday with a breathtaking Hot Air Balloon event. Festivities will include guided nature hikes\, FREE books & toys by SOAR\, book signing\, birthday celebration and tethered hot air balloon rides. As the sun sets\, the sky will come alive with a mesmerizing balloon glow. Attendees are encouraged to bring bug spray\, sunscreen\, lawn chairs\, and cash or card for tethered balloon rides and food truck purchases.  \n\n\n\n \n\n\n\nGather your friends & family and come celebrate 100 years of Kentucky State Parks! 
URL:https://visitmuhlenberg.com/events/up-up-away-birthday-celebration/
LOCATION:Lake Malone State Park\, 331 State Route 8001\, Dunmor\, Kentucky\, 42339\, United States
ATTACH;FMTTYPE=image/jpeg:https://visitmuhlenberg.com/wp-content/uploads/2024/06/Up-Up-Away-Facebook-002.jpg
END:VEVENT
END:VCALENDAR