BEGIN:VCALENDAR
VERSION:2.0
PRODID:-//Visit Muhlenberg - ECPv6.15.20//NONSGML v1.0//EN
CALSCALE:GREGORIAN
METHOD:PUBLISH
X-ORIGINAL-URL:https://visitmuhlenberg.com
X-WR-CALDESC:Events for Visit Muhlenberg
REFRESH-INTERVAL;VALUE=DURATION:PT1H
X-Robots-Tag:noindex
X-PUBLISHED-TTL:PT1H
BEGIN:VTIMEZONE
TZID:UTC
BEGIN:STANDARD
TZOFFSETFROM:+0000
TZOFFSETTO:+0000
TZNAME:UTC
DTSTART:20230101T000000
END:STANDARD
END:VTIMEZONE
BEGIN:VEVENT
DTSTART;TZID=UTC:20241208T140000
DTEND;TZID=UTC:20241208T160000
DTSTAMP:20260425T010207
CREATED:20241124T133415Z
LAST-MODIFIED:20241124T133417Z
UID:918-1733666400-1733673600@visitmuhlenberg.com
SUMMARY:Christmas in Paradise
DESCRIPTION:City of Powderly and Historic Paradise Park Present: Christmas in Paradise \n\n\n\nA Festive Family Event Full of Nostalgia and Holiday Cheer \n\n\n\nStep into a winter wonderland as Historic Paradise Park transforms into a charming Christmas village for the annual “Christmas in Paradise” celebration! This festive event will take place on Sunday\, December 8th\, from 2:00 PM to 4:00 PM\, offering the perfect opportunity to make magical memories with your loved ones. \n\n\n\nBring your family and experience the joy of the season! Santa and Mrs. Claus are taking a break from their busy North Pole workshop to visit Historic Paradise Park\, ready to spread Christmas cheer and pose for unforgettable photos. The talented Ashley Benson Photography will be on-site to capture these precious moments with your little ones. \n\n\n\nNo Christmas is complete without cookies\, and Courtney’s Cookies will be offering a variety of delectable sweet treats for purchase. Feeling hungry? Indulge in savory eats from Torera Hibachi and warm up with a festive cup of coffee from Two Bears Brew. \n\n\n\nWhether it’s the twinkle of holiday lights\, the aroma of freshly baked cookies\, or the laughter of children meeting Santa\, “Christmas in Paradise” is designed to evoke a sense of nostalgia while creating new family traditions. \n\n\n\nMark your calendar and join us for an afternoon filled with Christmas magic\, delicious food\, and timeless family fun. Don’t miss this opportunity to experience the charm of Historic Paradise Park like never before. \n\n\n\nFor more information\, contact City of Powderly or Muhlenberg’s Historic Paradise Park. \n\n\n\nCity of Powderly & Historic Paradise ParkBringing the magic of Christmas to life! 
URL:https://visitmuhlenberg.com/events/christmas-in-paradise/
LOCATION:604 Cleaton Road\, Powderly\, Ky
ATTACH;FMTTYPE=image/jpeg:https://visitmuhlenberg.com/wp-content/uploads/2024/11/2024-christmas-in-paradise.jpg
END:VEVENT
END:VCALENDAR