BEGIN:VCALENDAR
VERSION:2.0
PRODID:-//Visit Muhlenberg - ECPv6.15.20//NONSGML v1.0//EN
CALSCALE:GREGORIAN
METHOD:PUBLISH
X-WR-CALNAME:Visit Muhlenberg
X-ORIGINAL-URL:https://visitmuhlenberg.com
X-WR-CALDESC:Events for Visit Muhlenberg
REFRESH-INTERVAL;VALUE=DURATION:PT1H
X-Robots-Tag:noindex
X-PUBLISHED-TTL:PT1H
BEGIN:VTIMEZONE
TZID:UTC
BEGIN:STANDARD
TZOFFSETFROM:+0000
TZOFFSETTO:+0000
TZNAME:UTC
DTSTART:20240101T000000
END:STANDARD
END:VTIMEZONE
BEGIN:VEVENT
DTSTART;TZID=UTC:20251001T080000
DTEND;TZID=UTC:20251031T200000
DTSTAMP:20260424T043416
CREATED:20240904T181305Z
LAST-MODIFIED:20251001T001144Z
UID:875-1759305600-1761940800@visitmuhlenberg.com
SUMMARY:"Bales in the Berg" Hay Bale Trail
DESCRIPTION:Who’s ready for some “am-hayzing” fun? \n\n\n\nThe Muhlenberg County Tourism Commission is excited to announce a fun community event the whole family will enjoy\, Bales in the ‘Berg. The Hay Bale Trail will kick off on October 1st and run through October 31st. \n\n\n\nSpectators can visit all parts of Muhlenberg County to view a variety of Hay Bale displays and creations. A complete list of entries and the official Bales in the Berg Google Map is listed below! Prizes will be awarded to the top three winners in the following two categories: Business & Non-Profit and Residential. We will need the communities help in selecting the winning displays\, so follow along on our Facebook page and be ready to vote for your favorites. Official Bales in the Berg Google Map
URL:https://visitmuhlenberg.com/events/bales-in-the-berg-hay-bale-trail/
LOCATION:Kentucky
ATTACH;FMTTYPE=image/jpeg:https://visitmuhlenberg.com/wp-content/uploads/2024/09/Bales-in-the-Berg-logo-scaled.jpeg
END:VEVENT
END:VCALENDAR