BEGIN:VCALENDAR
VERSION:2.0
PRODID:-//Visit Muhlenberg - ECPv6.15.20//NONSGML v1.0//EN
CALSCALE:GREGORIAN
METHOD:PUBLISH
X-ORIGINAL-URL:https://visitmuhlenberg.com
X-WR-CALDESC:Events for Visit Muhlenberg
REFRESH-INTERVAL;VALUE=DURATION:PT1H
X-Robots-Tag:noindex
X-PUBLISHED-TTL:PT1H
BEGIN:VTIMEZONE
TZID:UTC
BEGIN:STANDARD
TZOFFSETFROM:+0000
TZOFFSETTO:+0000
TZNAME:UTC
DTSTART:20240101T000000
END:STANDARD
END:VTIMEZONE
BEGIN:VEVENT
DTSTART;TZID=UTC:20251031T170000
DTEND;TZID=UTC:20260207T235959
DTSTAMP:20260423T225258
CREATED:20251015T151200Z
LAST-MODIFIED:20251015T151202Z
UID:1023-1761930000-1770508799@visitmuhlenberg.com
SUMMARY:Western Ky Arenacross
DESCRIPTION:We’re excited to welcome Full Potential Race Promotions back for another thrilling season of Western Ky Arenacross in Muhlenberg County. Season begins Oct 31\, see event website for event information and full race schedule.
URL:https://visitmuhlenberg.com/events/western-ky-arenacross/
LOCATION:Muhlenberg County Agriculture & Convention Center\, 3705 State Route 1380\, Powderly\, Kentucky\, 42367\, United States
ORGANIZER;CN="Full Potential Race Promotions":MAILTO:fullpotential120@gmail.com
END:VEVENT
END:VCALENDAR