BEGIN:VCALENDAR
VERSION:2.0
PRODID:-//Visit Muhlenberg - ECPv6.15.20//NONSGML v1.0//EN
CALSCALE:GREGORIAN
METHOD:PUBLISH
X-ORIGINAL-URL:https://visitmuhlenberg.com
X-WR-CALDESC:Events for Visit Muhlenberg
REFRESH-INTERVAL;VALUE=DURATION:PT1H
X-Robots-Tag:noindex
X-PUBLISHED-TTL:PT1H
BEGIN:VTIMEZONE
TZID:UTC
BEGIN:STANDARD
TZOFFSETFROM:+0000
TZOFFSETTO:+0000
TZNAME:UTC
DTSTART:20240101T000000
END:STANDARD
END:VTIMEZONE
BEGIN:VEVENT
DTSTART;TZID=UTC:20251031T170000
DTEND;TZID=UTC:20260207T235959
DTSTAMP:20260423T225837
CREATED:20251015T151200Z
LAST-MODIFIED:20251015T151202Z
UID:1023-1761930000-1770508799@visitmuhlenberg.com
SUMMARY:Western Ky Arenacross
DESCRIPTION:We’re excited to welcome Full Potential Race Promotions back for another thrilling season of Western Ky Arenacross in Muhlenberg County. Season begins Oct 31\, see event website for event information and full race schedule.
URL:https://visitmuhlenberg.com/events/western-ky-arenacross/
LOCATION:Muhlenberg County Agriculture & Convention Center\, 3705 State Route 1380\, Powderly\, Kentucky\, 42367\, United States
ORGANIZER;CN="Full Potential Race Promotions":MAILTO:fullpotential120@gmail.com
END:VEVENT
BEGIN:VEVENT
DTSTART;TZID=UTC:20260328T190000
DTEND;TZID=UTC:20260328T210000
DTSTAMP:20260423T225837
CREATED:20251017T145929Z
LAST-MODIFIED:20251017T145933Z
UID:1056-1774724400-1774731600@visitmuhlenberg.com
SUMMARY:That 70's Show
DESCRIPTION:Remember when music was fun??  Regional favorites Minihan Productions return to the Martin Hall stage with this 2 hour tribute to Disco\, Rock & Roll\, Singer-Songwriters and a whole lot more! \n\n\n\nPut on your best 70s inspired “threads” and come join the party!
URL:https://visitmuhlenberg.com/events/that-70s-show/
LOCATION:Felix E. Martin Jr. Hall\, 501 Robert Draper Way\, Greenville\, Kentucky\, 42345\, United States
ATTACH;FMTTYPE=image/webp:https://visitmuhlenberg.com/wp-content/uploads/2025/10/70sshow-1920w.webp
ORGANIZER;CN="Felix E. Martin Jr. Hall":MAILTO:nfo@felixmartinhall.org
END:VEVENT
BEGIN:VEVENT
DTSTART;TZID=UTC:20260912T173000
DTEND;TZID=UTC:20260912T203000
DTSTAMP:20260423T225837
CREATED:20250606T233948Z
LAST-MODIFIED:20260323T140724Z
UID:981-1789234200-1789245000@visitmuhlenberg.com
SUMMARY:2026 Farm to Fork Gala
DESCRIPTION:Muhlenberg County is pleased to host the fourth annual Farm to Fork Gala. Join us for great food\, fellowship and entertainment! \n\n\n\nThe event will take place on September 12\, 2026\, at Wildflower Barn \n\n\n\nThis gala is all about recognizing and celebrating the contribution of agriculture and the importance it plays in our everyday lives and our community. This is a wonderful opportunity to show your support for local agriculture and meet some great people.
URL:https://visitmuhlenberg.com/events/2025-farm-to-fork-gala/
LOCATION:Muhlenberg County Agriculture & Convention Center\, 3705 State Route 1380\, Powderly\, Kentucky\, 42367\, United States
ATTACH;FMTTYPE=image/png:https://visitmuhlenberg.com/wp-content/uploads/2024/06/f2f-Square-logo.png
END:VEVENT
BEGIN:VEVENT
DTSTART;TZID=UTC:20260919T140000
DTEND;TZID=UTC:20260919T193000
DTSTAMP:20260423T225837
CREATED:20240114T171559Z
LAST-MODIFIED:20260323T140426Z
UID:841-1789826400-1789846200@visitmuhlenberg.com
SUMMARY:Dock Trot @ Lake Malone
DESCRIPTION:For up-to-date event information visit Muhlenberg County Tourism Commission Facebook and Instagram pages.
URL:https://visitmuhlenberg.com/events/dock-trot-lake-malone/
LOCATION:Lake Malone State Park\, 331 State Route 8001\, Dunmor\, Kentucky\, 42339\, United States
ATTACH;FMTTYPE=image/png:https://visitmuhlenberg.com/wp-content/uploads/2023/07/Dock-Trot-Logo-PNG.png
ORGANIZER;CN="Muhlenberg County Tourism Commission":MAILTO:director@visitmuhlenberg.com
END:VEVENT
END:VCALENDAR