BEGIN:VCALENDAR
VERSION:2.0
PRODID:-//Visit Muhlenberg - ECPv6.15.20//NONSGML v1.0//EN
CALSCALE:GREGORIAN
METHOD:PUBLISH
X-ORIGINAL-URL:https://visitmuhlenberg.com
X-WR-CALDESC:Events for Visit Muhlenberg
REFRESH-INTERVAL;VALUE=DURATION:PT1H
X-Robots-Tag:noindex
X-PUBLISHED-TTL:PT1H
BEGIN:VTIMEZONE
TZID:UTC
BEGIN:STANDARD
TZOFFSETFROM:+0000
TZOFFSETTO:+0000
TZNAME:UTC
DTSTART:20240101T000000
END:STANDARD
END:VTIMEZONE
BEGIN:VTIMEZONE
TZID:America/Indiana/Tell_City
BEGIN:DAYLIGHT
TZOFFSETFROM:-0600
TZOFFSETTO:-0500
TZNAME:CDT
DTSTART:20240310T080000
END:DAYLIGHT
BEGIN:STANDARD
TZOFFSETFROM:-0500
TZOFFSETTO:-0600
TZNAME:CST
DTSTART:20241103T070000
END:STANDARD
BEGIN:DAYLIGHT
TZOFFSETFROM:-0600
TZOFFSETTO:-0500
TZNAME:CDT
DTSTART:20250309T080000
END:DAYLIGHT
BEGIN:STANDARD
TZOFFSETFROM:-0500
TZOFFSETTO:-0600
TZNAME:CST
DTSTART:20251102T070000
END:STANDARD
BEGIN:DAYLIGHT
TZOFFSETFROM:-0600
TZOFFSETTO:-0500
TZNAME:CDT
DTSTART:20260308T080000
END:DAYLIGHT
BEGIN:STANDARD
TZOFFSETFROM:-0500
TZOFFSETTO:-0600
TZNAME:CST
DTSTART:20261101T070000
END:STANDARD
BEGIN:DAYLIGHT
TZOFFSETFROM:-0600
TZOFFSETTO:-0500
TZNAME:CDT
DTSTART:20270314T080000
END:DAYLIGHT
BEGIN:STANDARD
TZOFFSETFROM:-0500
TZOFFSETTO:-0600
TZNAME:CST
DTSTART:20271107T070000
END:STANDARD
END:VTIMEZONE
BEGIN:VEVENT
DTSTART;TZID=UTC:20251206T180000
DTEND;TZID=UTC:20251206T200000
DTSTAMP:20260425T155721
CREATED:20251015T195558Z
LAST-MODIFIED:20251015T195601Z
UID:1043-1765044000-1765051200@visitmuhlenberg.com
SUMMARY:Greenville Christmas Parade
DESCRIPTION:Visit Greenville Tourism for entry information and schedule.
URL:https://visitmuhlenberg.com/events/greenville-christmas-parade-2/
LOCATION:Kentucky
ATTACH;FMTTYPE=image/webp:https://visitmuhlenberg.com/wp-content/uploads/2025/10/Fest-of-Lights-25-1.webp
ORGANIZER;CN="Greenville Tourism Commission":MAILTO:director@tourgreenville.com
END:VEVENT
BEGIN:VEVENT
DTSTART;TZID=UTC:20251209T190000
DTEND;TZID=UTC:20251209T210000
DTSTAMP:20260425T155721
CREATED:20251017T144151Z
LAST-MODIFIED:20251017T144156Z
UID:1050-1765306800-1765314000@visitmuhlenberg.com
SUMMARY:The Grand Ol' Christmas Show
DESCRIPTION:Broadcasting live from the Grand Ol’ Radio Network on 1225 AM\, N-O-E-L Radio\, it’s Will Hearn’s Grand Ol’ Christmas Show! This raucous rollicking retro radio show features all-time favorite festive Christmas classics like you’ve never heard them before and sketch comedy shenanigans that progressively and cleverly blur the lines between nostalgia and satire. Made for music and comedy lovers alike from boomer to millennial\, The Grand Ol’ Christmas Show is an inspiring Holiday tradition that gets better every year!
URL:https://visitmuhlenberg.com/events/the-grand-ol-christmas-show/
LOCATION:Felix E. Martin Jr. Hall\, 501 Robert Draper Way\, Greenville\, Kentucky\, 42345\, United States
ATTACH;FMTTYPE=image/webp:https://visitmuhlenberg.com/wp-content/uploads/2025/10/grand-ol-christmas.webp
ORGANIZER;CN="Felix E. Martin Jr. Hall":MAILTO:nfo@felixmartinhall.org
END:VEVENT
BEGIN:VEVENT
DTSTART;TZID=UTC:20251213T070000
DTEND;TZID=UTC:20251213T130000
DTSTAMP:20260425T155721
CREATED:20251126T003233Z
LAST-MODIFIED:20251126T003238Z
UID:1124-1765609200-1765630800@visitmuhlenberg.com
SUMMARY:2025 MCHS Fishing Team Swap Meet
DESCRIPTION:SWAP-BUY-SELL-TRADE
URL:https://visitmuhlenberg.com/events/2025-mchs-fishing-team-swap-meet/
LOCATION:Muhlenberg County Middle School\, 2900 KY 176\, Greenville\, Kentucky\, 42345\, United States
ATTACH;FMTTYPE=image/jpeg:https://visitmuhlenberg.com/wp-content/uploads/2025/11/2025-MCHS-Swap-Meet-.jpg
END:VEVENT
BEGIN:VEVENT
DTSTART;TZID=America/Indiana/Tell_City:20251213T100000
DTEND;TZID=America/Indiana/Tell_City:20251213T130000
DTSTAMP:20260425T155721
CREATED:20231103T235556Z
LAST-MODIFIED:20251103T215206Z
UID:756-1765620000-1765630800@visitmuhlenberg.com
SUMMARY:Gumdrops on Rooftops Gingerbread House Contest & Showcase
DESCRIPTION:Welcome to the 4th Annual “Gumdrops on Rooftops” Gingerbread House Decorating Contest & Showcase! This fun holiday event is for all ages. Make a gingerbread creation or just come see the showcase! There will be activities from SOAR and an exclusive visit from Mrs. Clause with free goodie bags while supplies last! \n\n\n\nThanks to our sponsors\, it’s FREE to participate in any of the contests and FREE to attend and is open to anyone located in the region. BUT in the spirit of Christmas and giving\, cash donations will be accepted at the door for the 4-H Backpack Program which provides food on the weekends for at risk kids. \n\n\n\nGingerbread House Contest Details: \n\n\n\n$2\,900 in CASH prizes up for grabs \n\n\n\nDivisions & Cash Prizes: \n\n\n\nIndividual: \n\n\n\nAdult (18+) – 1st place $300\, 2nd place $200\, 3rd place $100 \n\n\n\nTeen (13-17) – 1st place $150\, 2nd place $100\, 3rd place $50 \n\n\n\nPre-Teen (10-12) – 1st place $150\, 2nd place $100\, 3rd place $50 \n\n\n\nYouth I (6-9) – 1st place $150\, 2nd place $100\, 3rd place $50 \n\n\n\nGroups: \n\n\n\nCivic/Business/Religious Organizations – 1st place $400\, 2nd place $200\, 3rd place $100 \n\n\n\nFamilies – 1st place $400\, 2nd place $200\, 3rd place $100 \n\n\n\nPlease register here by December 10\, 2025: https://form.jotform.com/232843770861159 \n\n\n\n\n\n\n\n\n\n\n\n\n\nColoring Contest Details: \n\n\n\nDivisions: \n\n\n\n3-4 years old\, 5-7 years old\, & 8-10 years old \n\n\n\nColor Sheet Pickup: \n\n\n\nColoring Sheets may be picked up beginning Monday\, November 17th at 3 locations: \n\n\n\nMuhlenberg County Extension Office (3690 State Route 1380\, Central City\, KY 42330) \n\n\n\nMuhlenberg County Public Libraries: \n\n\n\n\nHarbin Memorial Library (Greenville location)\, 117 S Main Street\, Greenville\n\n\n\nCentral City Public Library\, 108 Broad Street\, Central City\n\n\n\n\nColoring Sheet Submission: \n\n\n\n\n\n\n\nCompleted entries will be accepted at the UK Extension Office beginning Monday\, Nov. 24th and the deadline to enter will be Dec. 12th at 4:30PM. \n\n\n\nThere will be one entry accepted per artist and must be the child’s original coloring. \n\n\n\nEvent Schedule: \n\n\n\nFriday\, December 12th – CLOSED TO THE PUBLIC \n\n\n\n4:00 pm – 6:00 pm – Delivery of Gingerbread House entries \n\n\n\n6:00 pm – Deadline for entries in the coloring contest  \n\n\n\n6:30 pm – 8:30 pm – Judging \n\n\n\nSaturday\, December 13th \n\n\n\n10:00 am – 1:00 pm \n\n\n\nGingerbread Entries \n\n\n\n11:00 am – Photos of Gingerbread House Winners \n\n\n\nFun & Activities from SOAR \n\n\n\nMrs. Clause with free goodie bags (while supplies last) \n\n\n\nColoring Contest Entries Displayed & Winners announced \n\n\n\nThe MCTC and event committee are deeply grateful to the event sponsors who are making all this fun a reality. Royal Icing Sponsors:  Ricky Hoskins Insurance Kentucky Farm Bureau\, Sacramento Deposit Bank. Gingerbread Cookie Sponsors: Gary Carver State Farm\, House of Onyx\, Inc.\, Owensboro Health Muhlenberg County Hospital\, Gumdrop Sponsors: Amber Griggs State Farm\, Central Flooring\, Sunshine Garden Center\, Tucker Funeral Home.
URL:https://visitmuhlenberg.com/events/gumdrops-on-rooftops-gingerbread-house-contest-showcase/
LOCATION:Muhlenberg County Cooperative Extension Service\, 3690 State Route 1380\, Central City\, Kentucky\, 42330\, United States
ATTACH;FMTTYPE=image/png:https://visitmuhlenberg.com/wp-content/uploads/2023/11/GUMDROPS-POSTER-25.png
ORGANIZER;CN="Muhlenberg County Tourism Commission":MAILTO:director@visitmuhlenberg.com
END:VEVENT
BEGIN:VEVENT
DTSTART;TZID=America/Indiana/Tell_City:20251215T080000
DTEND;TZID=America/Indiana/Tell_City:20260104T170000
DTSTAMP:20260425T155721
CREATED:20231106T192331Z
LAST-MODIFIED:20251215T172251Z
UID:786-1765785600-1767546000@visitmuhlenberg.com
SUMMARY:Muhlenberg's Merry & Bright Christmas Decorating Contest
DESCRIPTION:The Muhlenberg County Tourism Commissions is pleased to announce the return of “Muhlenberg’s Merry & Bright Christmas Decorating Contest.” This fun and festive event brings an extra dash of holiday cheer to residents and visitors alike! Grab the hot chocolate and plan to visit these festive displays. See the link below for a google map and list of participants. \n\n\n\n\nMerry & Bright Map
URL:https://visitmuhlenberg.com/events/muhlenbergs-merry-bright-christmas-decoration-contest-registration/
LOCATION:Kentucky
ATTACH;FMTTYPE=image/png:https://visitmuhlenberg.com/wp-content/uploads/2023/11/MB-Website-2560-x-1960-px.png
ORGANIZER;CN="Muhlenberg County Tourism Commission":MAILTO:director@visitmuhlenberg.com
END:VEVENT
BEGIN:VEVENT
DTSTART;TZID=UTC:20260124T140000
DTEND;TZID=UTC:20260124T160000
DTSTAMP:20260425T155721
CREATED:20251017T145304Z
LAST-MODIFIED:20251017T145307Z
UID:1053-1769263200-1769270400@visitmuhlenberg.com
SUMMARY:Dinosaur World LIVE
DESCRIPTION:DINOSAUR WORLD LIVE invites you to grab your compass and join our intrepid explorer for travels across unchartered territories to discover a pre-historic world of astonishing (and remarkably life-like) dinosaurs. Meet a host of impressive creatures\, including every child’s favorite flesh-eating giant\, the Tyrannosaurus Rex! \n\n\n\nFrom the same company that brought you DRAGONS & MYTHICAL BEASTS a few seasons ago\, this 2024 Olivier Award winner for “Best Family Entertainment” is sure to delight “kids” of all ages! \n\n\n\n*Please note the special Saturday Matinee start time (2pm)
URL:https://visitmuhlenberg.com/events/dinosaur-world-live/
LOCATION:Felix E. Martin Jr. Hall\, 501 Robert Draper Way\, Greenville\, Kentucky\, 42345\, United States
ATTACH;FMTTYPE=image/webp:https://visitmuhlenberg.com/wp-content/uploads/2025/10/dino-world-live.webp
ORGANIZER;CN="Felix E. Martin Jr. Hall":MAILTO:nfo@felixmartinhall.org
END:VEVENT
BEGIN:VEVENT
DTSTART;TZID=UTC:20260328T190000
DTEND;TZID=UTC:20260328T210000
DTSTAMP:20260425T155721
CREATED:20251017T145929Z
LAST-MODIFIED:20251017T145933Z
UID:1056-1774724400-1774731600@visitmuhlenberg.com
SUMMARY:That 70's Show
DESCRIPTION:Remember when music was fun??  Regional favorites Minihan Productions return to the Martin Hall stage with this 2 hour tribute to Disco\, Rock & Roll\, Singer-Songwriters and a whole lot more! \n\n\n\nPut on your best 70s inspired “threads” and come join the party!
URL:https://visitmuhlenberg.com/events/that-70s-show/
LOCATION:Felix E. Martin Jr. Hall\, 501 Robert Draper Way\, Greenville\, Kentucky\, 42345\, United States
ATTACH;FMTTYPE=image/webp:https://visitmuhlenberg.com/wp-content/uploads/2025/10/70sshow-1920w.webp
ORGANIZER;CN="Felix E. Martin Jr. Hall":MAILTO:nfo@felixmartinhall.org
END:VEVENT
BEGIN:VEVENT
DTSTART;TZID=UTC:20260912T173000
DTEND;TZID=UTC:20260912T203000
DTSTAMP:20260425T155721
CREATED:20250606T233948Z
LAST-MODIFIED:20260323T140724Z
UID:981-1789234200-1789245000@visitmuhlenberg.com
SUMMARY:2026 Farm to Fork Gala
DESCRIPTION:Muhlenberg County is pleased to host the fourth annual Farm to Fork Gala. Join us for great food\, fellowship and entertainment! \n\n\n\nThe event will take place on September 12\, 2026\, at Wildflower Barn \n\n\n\nThis gala is all about recognizing and celebrating the contribution of agriculture and the importance it plays in our everyday lives and our community. This is a wonderful opportunity to show your support for local agriculture and meet some great people.
URL:https://visitmuhlenberg.com/events/2025-farm-to-fork-gala/
LOCATION:Muhlenberg County Agriculture & Convention Center\, 3705 State Route 1380\, Powderly\, Kentucky\, 42367\, United States
ATTACH;FMTTYPE=image/png:https://visitmuhlenberg.com/wp-content/uploads/2024/06/f2f-Square-logo.png
END:VEVENT
BEGIN:VEVENT
DTSTART;TZID=UTC:20260919T140000
DTEND;TZID=UTC:20260919T193000
DTSTAMP:20260425T155721
CREATED:20240114T171559Z
LAST-MODIFIED:20260323T140426Z
UID:841-1789826400-1789846200@visitmuhlenberg.com
SUMMARY:Dock Trot @ Lake Malone
DESCRIPTION:For up-to-date event information visit Muhlenberg County Tourism Commission Facebook and Instagram pages.
URL:https://visitmuhlenberg.com/events/dock-trot-lake-malone/
LOCATION:Lake Malone State Park\, 331 State Route 8001\, Dunmor\, Kentucky\, 42339\, United States
ATTACH;FMTTYPE=image/png:https://visitmuhlenberg.com/wp-content/uploads/2023/07/Dock-Trot-Logo-PNG.png
ORGANIZER;CN="Muhlenberg County Tourism Commission":MAILTO:director@visitmuhlenberg.com
END:VEVENT
END:VCALENDAR